BEGIN:VCALENDAR
VERSION:2.0
PRODID:-//PRO-GK USA - ECPv6.15.18//NONSGML v1.0//EN
CALSCALE:GREGORIAN
METHOD:PUBLISH
X-WR-CALNAME:PRO-GK USA
X-ORIGINAL-URL:https://pro-gk-usa.level5athletics.com
X-WR-CALDESC:Events for PRO-GK USA
REFRESH-INTERVAL;VALUE=DURATION:PT1H
X-Robots-Tag:noindex
X-PUBLISHED-TTL:PT1H
BEGIN:VTIMEZONE
TZID:America/New_York
BEGIN:DAYLIGHT
TZOFFSETFROM:-0500
TZOFFSETTO:-0400
TZNAME:EDT
DTSTART:20250309T070000
END:DAYLIGHT
BEGIN:STANDARD
TZOFFSETFROM:-0400
TZOFFSETTO:-0500
TZNAME:EST
DTSTART:20251102T060000
END:STANDARD
BEGIN:DAYLIGHT
TZOFFSETFROM:-0500
TZOFFSETTO:-0400
TZNAME:EDT
DTSTART:20260308T070000
END:DAYLIGHT
BEGIN:STANDARD
TZOFFSETFROM:-0400
TZOFFSETTO:-0500
TZNAME:EST
DTSTART:20261101T060000
END:STANDARD
BEGIN:DAYLIGHT
TZOFFSETFROM:-0500
TZOFFSETTO:-0400
TZNAME:EDT
DTSTART:20270314T070000
END:DAYLIGHT
BEGIN:STANDARD
TZOFFSETFROM:-0400
TZOFFSETTO:-0500
TZNAME:EST
DTSTART:20271107T060000
END:STANDARD
END:VTIMEZONE
BEGIN:VEVENT
DTSTART;TZID=America/New_York:20260629T090000
DTEND;TZID=America/New_York:20260629T150000
DTSTAMP:20260421T071327
CREATED:20251229T210754Z
LAST-MODIFIED:20251229T210758Z
UID:10002013-1782723600-1782745200@pro-gk-usa.level5athletics.com
SUMMARY:LV5-GK Summer Camp 2026- St. Timothy's School
DESCRIPTION:Level 5\n			\n			\n				\n				\n				\n				\n				\n				\n				\n				\n				\n				\n			\n			\n				\n				\n				\n				\n			\n				\n				\n				\n				\n				\n				\n				Register Now\n			\n			\n				\n				\n				\n				\n				\n				\n				\n				\n				\n				Description:
URL:https://pro-gk-usa.level5athletics.com/event/lv5-gk-summer-camp-2026-st-timothys-school/2026-06-29/
CATEGORIES:Open registration
ATTACH;FMTTYPE=image/png:https://pro-gk-usa.level5athletics.com/wp-content/uploads/2023/11/LV5-GKA-trans.png
ORGANIZER;CN="Level 5":MAILTO:soccer@level5athletics.com
END:VEVENT
BEGIN:VEVENT
DTSTART;TZID=America/New_York:20260629T090000
DTEND;TZID=America/New_York:20260629T150000
DTSTAMP:20260421T071327
CREATED:20260111T171114Z
LAST-MODIFIED:20260111T171118Z
UID:10002022-1782723600-1782745200@pro-gk-usa.level5athletics.com
SUMMARY:LV5-GKA Summer Camp 2026- STT- Members
DESCRIPTION:Level 5\n			\n			\n				\n				\n				\n				\n				\n				\n				\n				\n				\n				\n			\n			\n				\n				\n				\n				\n			\n				\n				\n				\n				\n				\n				\n				Register Now\n			\n			\n				\n				\n				\n				\n				\n				\n				\n				\n				\n				Description:
URL:https://pro-gk-usa.level5athletics.com/event/lv5-gka-summer-camp-2026-stt-members/2026-06-29/
CATEGORIES:Members Only
ATTACH;FMTTYPE=image/png:https://pro-gk-usa.level5athletics.com/wp-content/uploads/2023/08/GKA.png
ORGANIZER;CN="Level 5":MAILTO:soccer@level5athletics.com
END:VEVENT
BEGIN:VEVENT
DTSTART;TZID=America/New_York:20260630T090000
DTEND;TZID=America/New_York:20260630T150000
DTSTAMP:20260421T071327
CREATED:20251229T210754Z
LAST-MODIFIED:20251229T210758Z
UID:10002014-1782810000-1782831600@pro-gk-usa.level5athletics.com
SUMMARY:LV5-GK Summer Camp 2026- St. Timothy's School
DESCRIPTION:Level 5\n			\n			\n				\n				\n				\n				\n				\n				\n				\n				\n				\n				\n			\n			\n				\n				\n				\n				\n			\n				\n				\n				\n				\n				\n				\n				Register Now\n			\n			\n				\n				\n				\n				\n				\n				\n				\n				\n				\n				Description:
URL:https://pro-gk-usa.level5athletics.com/event/lv5-gk-summer-camp-2026-st-timothys-school/2026-06-30/
CATEGORIES:Open registration
ATTACH;FMTTYPE=image/png:https://pro-gk-usa.level5athletics.com/wp-content/uploads/2023/11/LV5-GKA-trans.png
ORGANIZER;CN="Level 5":MAILTO:soccer@level5athletics.com
END:VEVENT
BEGIN:VEVENT
DTSTART;TZID=America/New_York:20260630T090000
DTEND;TZID=America/New_York:20260630T150000
DTSTAMP:20260421T071328
CREATED:20260111T171114Z
LAST-MODIFIED:20260111T171118Z
UID:10002023-1782810000-1782831600@pro-gk-usa.level5athletics.com
SUMMARY:LV5-GKA Summer Camp 2026- STT- Members
DESCRIPTION:Level 5\n			\n			\n				\n				\n				\n				\n				\n				\n				\n				\n				\n				\n			\n			\n				\n				\n				\n				\n			\n				\n				\n				\n				\n				\n				\n				Register Now\n			\n			\n				\n				\n				\n				\n				\n				\n				\n				\n				\n				Description:
URL:https://pro-gk-usa.level5athletics.com/event/lv5-gka-summer-camp-2026-stt-members/2026-06-30/
CATEGORIES:Members Only
ATTACH;FMTTYPE=image/png:https://pro-gk-usa.level5athletics.com/wp-content/uploads/2023/08/GKA.png
ORGANIZER;CN="Level 5":MAILTO:soccer@level5athletics.com
END:VEVENT
BEGIN:VEVENT
DTSTART;TZID=America/New_York:20260701T090000
DTEND;TZID=America/New_York:20260701T150000
DTSTAMP:20260421T071328
CREATED:20251229T210754Z
LAST-MODIFIED:20251229T210758Z
UID:10002015-1782896400-1782918000@pro-gk-usa.level5athletics.com
SUMMARY:LV5-GK Summer Camp 2026- St. Timothy's School
DESCRIPTION:Level 5\n			\n			\n				\n				\n				\n				\n				\n				\n				\n				\n				\n				\n			\n			\n				\n				\n				\n				\n			\n				\n				\n				\n				\n				\n				\n				Register Now\n			\n			\n				\n				\n				\n				\n				\n				\n				\n				\n				\n				Description:
URL:https://pro-gk-usa.level5athletics.com/event/lv5-gk-summer-camp-2026-st-timothys-school/2026-07-01/
CATEGORIES:Open registration
ATTACH;FMTTYPE=image/png:https://pro-gk-usa.level5athletics.com/wp-content/uploads/2023/11/LV5-GKA-trans.png
ORGANIZER;CN="Level 5":MAILTO:soccer@level5athletics.com
END:VEVENT
BEGIN:VEVENT
DTSTART;TZID=America/New_York:20260701T090000
DTEND;TZID=America/New_York:20260701T150000
DTSTAMP:20260421T071328
CREATED:20260111T171114Z
LAST-MODIFIED:20260111T171118Z
UID:10002024-1782896400-1782918000@pro-gk-usa.level5athletics.com
SUMMARY:LV5-GKA Summer Camp 2026- STT- Members
DESCRIPTION:Level 5\n			\n			\n				\n				\n				\n				\n				\n				\n				\n				\n				\n				\n			\n			\n				\n				\n				\n				\n			\n				\n				\n				\n				\n				\n				\n				Register Now\n			\n			\n				\n				\n				\n				\n				\n				\n				\n				\n				\n				Description:
URL:https://pro-gk-usa.level5athletics.com/event/lv5-gka-summer-camp-2026-stt-members/2026-07-01/
CATEGORIES:Members Only
ATTACH;FMTTYPE=image/png:https://pro-gk-usa.level5athletics.com/wp-content/uploads/2023/08/GKA.png
ORGANIZER;CN="Level 5":MAILTO:soccer@level5athletics.com
END:VEVENT
BEGIN:VEVENT
DTSTART;TZID=America/New_York:20260702T090000
DTEND;TZID=America/New_York:20260702T150000
DTSTAMP:20260421T071328
CREATED:20251229T210754Z
LAST-MODIFIED:20251229T210758Z
UID:10002016-1782982800-1783004400@pro-gk-usa.level5athletics.com
SUMMARY:LV5-GK Summer Camp 2026- St. Timothy's School
DESCRIPTION:Level 5\n			\n			\n				\n				\n				\n				\n				\n				\n				\n				\n				\n				\n			\n			\n				\n				\n				\n				\n			\n				\n				\n				\n				\n				\n				\n				Register Now\n			\n			\n				\n				\n				\n				\n				\n				\n				\n				\n				\n				Description:
URL:https://pro-gk-usa.level5athletics.com/event/lv5-gk-summer-camp-2026-st-timothys-school/2026-07-02/
CATEGORIES:Open registration
ATTACH;FMTTYPE=image/png:https://pro-gk-usa.level5athletics.com/wp-content/uploads/2023/11/LV5-GKA-trans.png
ORGANIZER;CN="Level 5":MAILTO:soccer@level5athletics.com
END:VEVENT
BEGIN:VEVENT
DTSTART;TZID=America/New_York:20260702T090000
DTEND;TZID=America/New_York:20260702T150000
DTSTAMP:20260421T071328
CREATED:20260111T171114Z
LAST-MODIFIED:20260111T171118Z
UID:10002025-1782982800-1783004400@pro-gk-usa.level5athletics.com
SUMMARY:LV5-GKA Summer Camp 2026- STT- Members
DESCRIPTION:Level 5\n			\n			\n				\n				\n				\n				\n				\n				\n				\n				\n				\n				\n			\n			\n				\n				\n				\n				\n			\n				\n				\n				\n				\n				\n				\n				Register Now\n			\n			\n				\n				\n				\n				\n				\n				\n				\n				\n				\n				Description:
URL:https://pro-gk-usa.level5athletics.com/event/lv5-gka-summer-camp-2026-stt-members/2026-07-02/
CATEGORIES:Members Only
ATTACH;FMTTYPE=image/png:https://pro-gk-usa.level5athletics.com/wp-content/uploads/2023/08/GKA.png
ORGANIZER;CN="Level 5":MAILTO:soccer@level5athletics.com
END:VEVENT
END:VCALENDAR