BEGIN:VCALENDAR
VERSION:2.0
PRODID:-//PRO-GK USA - ECPv6.15.18//NONSGML v1.0//EN
CALSCALE:GREGORIAN
METHOD:PUBLISH
X-ORIGINAL-URL:https://pro-gk-usa.level5athletics.com
X-WR-CALDESC:Events for PRO-GK USA
REFRESH-INTERVAL;VALUE=DURATION:PT1H
X-Robots-Tag:noindex
X-PUBLISHED-TTL:PT1H
BEGIN:VTIMEZONE
TZID:America/New_York
BEGIN:DAYLIGHT
TZOFFSETFROM:-0500
TZOFFSETTO:-0400
TZNAME:EDT
DTSTART:20240310T070000
END:DAYLIGHT
BEGIN:STANDARD
TZOFFSETFROM:-0400
TZOFFSETTO:-0500
TZNAME:EST
DTSTART:20241103T060000
END:STANDARD
BEGIN:DAYLIGHT
TZOFFSETFROM:-0500
TZOFFSETTO:-0400
TZNAME:EDT
DTSTART:20250309T070000
END:DAYLIGHT
BEGIN:STANDARD
TZOFFSETFROM:-0400
TZOFFSETTO:-0500
TZNAME:EST
DTSTART:20251102T060000
END:STANDARD
BEGIN:DAYLIGHT
TZOFFSETFROM:-0500
TZOFFSETTO:-0400
TZNAME:EDT
DTSTART:20260308T070000
END:DAYLIGHT
BEGIN:STANDARD
TZOFFSETFROM:-0400
TZOFFSETTO:-0500
TZNAME:EST
DTSTART:20261101T060000
END:STANDARD
END:VTIMEZONE
BEGIN:VEVENT
DTSTART;TZID=America/New_York:20251011T103000
DTEND;TZID=America/New_York:20251011T113000
DTSTAMP:20260421T213946
CREATED:20250714T231812Z
LAST-MODIFIED:20251008T232324Z
UID:10001872-1760178600-1760182200@pro-gk-usa.level5athletics.com
SUMMARY:LV5-GKA-GFS-9v9/11v11-Saturdays- Fall 2025- Members
DESCRIPTION:Level 5\n			\n			\n				\n				\n				\n				\n				\n				\n				\n				\n				\n				\n			\n			\n				\n				\n				\n				\n			\n				\n				\n				\n				\n				\n				\n				Register Now\n			\n			\n				\n				\n				\n				\n				\n				\n				\n				\n				\n				Description:
URL:https://pro-gk-usa.level5athletics.com/event/lv5-gka-gfs-9v9-11v11-saturdays-fall-2025-members/2025-10-11/
LOCATION:Garrison Forest School\, 300 Garrison Forrest Rd.\, Owings Mills\, Maryland\, 21117
CATEGORIES:Members Only
ORGANIZER;CN="Level 5":MAILTO:soccer@level5athletics.com
END:VEVENT
BEGIN:VEVENT
DTSTART;TZID=America/New_York:20251011T103000
DTEND;TZID=America/New_York:20251011T113000
DTSTAMP:20260421T213946
CREATED:20250714T224649Z
LAST-MODIFIED:20251008T232243Z
UID:10001882-1760178600-1760182200@pro-gk-usa.level5athletics.com
SUMMARY:LV5-GKA-GFS-9v9/11v11- Saturdays- Fall 2025
DESCRIPTION:Level 5\n			\n			\n				\n				\n				\n				\n				\n				\n				\n				\n				\n				\n			\n			\n				\n				\n				\n				\n			\n				\n				\n				\n				\n				\n				\n				Register Now\n			\n			\n				\n				\n				\n				\n				\n				\n				\n				\n				\n				Description:
URL:https://pro-gk-usa.level5athletics.com/event/lv5-gka-gfs-9v9-11v11-saturdays-fall-2025/2025-10-11/
LOCATION:Garrison Forest School\, 300 Garrison Forrest Rd.\, Owings Mills\, Maryland\, 21117
CATEGORIES:Open registration
ATTACH;FMTTYPE=image/png:https://pro-gk-usa.level5athletics.com/wp-content/uploads/2023/11/LV5-GKA-trans.png
ORGANIZER;CN="Level 5":MAILTO:soccer@level5athletics.com
END:VEVENT
BEGIN:VEVENT
DTSTART;TZID=America/New_York:20251011T100000
DTEND;TZID=America/New_York:20251011T110000
DTSTAMP:20260421T213946
CREATED:20250715T125759Z
LAST-MODIFIED:20250820T211040Z
UID:10001759-1760176800-1760180400@pro-gk-usa.level5athletics.com
SUMMARY:LV5-GKA-GFS- High School- Saturdays- Fall 2025- Members
DESCRIPTION:Level 5\n			\n			\n				\n				\n				\n				\n				\n				\n				\n				\n				\n				\n			\n			\n				\n				\n				\n				\n			\n				\n				\n				\n				\n				\n				\n				Register Now\n			\n			\n				\n				\n				\n				\n				\n				\n				\n				\n				\n				Description:
URL:https://pro-gk-usa.level5athletics.com/event/lv5-gka-gfs-high-school-saturdays-fall-2025-members/2025-10-11/2/
LOCATION:Garrison Forest School\, 300 Garrison Forrest Rd.\, Owings Mills\, Maryland\, 21117
CATEGORIES:Members Only
ATTACH;FMTTYPE=image/png:https://pro-gk-usa.level5athletics.com/wp-content/uploads/2023/11/LV5-GKA-trans.png
ORGANIZER;CN="Level 5":MAILTO:soccer@level5athletics.com
END:VEVENT
BEGIN:VEVENT
DTSTART;TZID=America/New_York:20251011T100000
DTEND;TZID=America/New_York:20251011T110000
DTSTAMP:20260421T213946
CREATED:20250714T233015Z
LAST-MODIFIED:20251008T235734Z
UID:10001739-1760176800-1760180400@pro-gk-usa.level5athletics.com
SUMMARY:LV5-GKA- GFS- High School- Saturdays- Fall 2025
DESCRIPTION:Level 5\n			\n			\n				\n				\n				\n				\n				\n				\n				\n				\n				\n				\n			\n			\n				\n				\n				\n				\n			\n				\n				\n				\n				\n				\n				\n				Register Now\n			\n			\n				\n				\n				\n				\n				\n				\n				\n				\n				\n				Description:
URL:https://pro-gk-usa.level5athletics.com/event/lv5-gka-gfs-high-school-saturdays-fall-2025/2025-10-11/2/
LOCATION:Garrison Forest School\, 300 Garrison Forrest Rd.\, Owings Mills\, Maryland\, 21117
CATEGORIES:Open registration
ATTACH;FMTTYPE=image/png:https://pro-gk-usa.level5athletics.com/wp-content/uploads/2023/11/LV5-GKA-trans.png
ORGANIZER;CN="Level 5":MAILTO:soccer@level5athletics.com
END:VEVENT
BEGIN:VEVENT
DTSTART;TZID=America/New_York:20251010T193000
DTEND;TZID=America/New_York:20251010T203000
DTSTAMP:20260421T213946
CREATED:20250714T185020Z
LAST-MODIFIED:20251008T232114Z
UID:10001700-1760124600-1760128200@pro-gk-usa.level5athletics.com
SUMMARY:LV5-GKA-GFS- High School- Fridays- Fall 2025
DESCRIPTION:Level 5\n			\n			\n				\n				\n				\n				\n				\n				\n				\n				\n				\n				\n			\n			\n				\n				\n				\n				\n			\n				\n				\n				\n				\n				\n				\n				Register Now\n			\n			\n				\n				\n				\n				\n				\n				\n				\n				\n				\n				Description:
URL:https://pro-gk-usa.level5athletics.com/event/lv5-gka-gfs-high-school-fridays-fall-2025/2025-10-10/
LOCATION:Garrison Forest School\, 300 Garrison Forrest Rd.\, Owings Mills\, Maryland\, 21117
CATEGORIES:Open registration
ATTACH;FMTTYPE=image/png:https://pro-gk-usa.level5athletics.com/wp-content/uploads/2023/11/LV5-GKA-trans.png
ORGANIZER;CN="Level 5":MAILTO:soccer@level5athletics.com
END:VEVENT
BEGIN:VEVENT
DTSTART;TZID=America/New_York:20251010T193000
DTEND;TZID=America/New_York:20251010T203000
DTSTAMP:20260421T213946
CREATED:20250714T183941Z
LAST-MODIFIED:20251008T232031Z
UID:10001690-1760124600-1760128200@pro-gk-usa.level5athletics.com
SUMMARY:LV5-GKA-GFS-High School- Fridays- Fall 2025- Members
DESCRIPTION:Level 5\n			\n			\n				\n				\n				\n				\n				\n				\n				\n				\n				\n				\n			\n			\n				\n				\n				\n				\n			\n				\n				\n				\n				\n				\n				\n				Register Now\n			\n			\n				\n				\n				\n				\n				\n				\n				\n				\n				\n				Description:
URL:https://pro-gk-usa.level5athletics.com/event/lv5-gka-gfs-high-school-fridays-fall-2025-members/2025-10-10/
LOCATION:Garrison Forest School\, 300 Garrison Forrest Rd.\, Owings Mills\, Maryland\, 21117
CATEGORIES:Members Only
ATTACH;FMTTYPE=image/png:https://pro-gk-usa.level5athletics.com/wp-content/uploads/2023/11/LV5-GKA-trans.png
ORGANIZER;CN="Level 5":MAILTO:soccer@level5athletics.com
END:VEVENT
BEGIN:VEVENT
DTSTART;TZID=America/New_York:20251010T183000
DTEND;TZID=America/New_York:20251010T193000
DTSTAMP:20260421T213946
CREATED:20250714T182659Z
LAST-MODIFIED:20251008T231858Z
UID:10001680-1760121000-1760124600@pro-gk-usa.level5athletics.com
SUMMARY:LV5-GKA-GFS- 9v9/11v11- Fridays- Fall 2025
DESCRIPTION:Level 5\n			\n			\n				\n				\n				\n				\n				\n				\n				\n				\n				\n				\n			\n			\n				\n				\n				\n				\n			\n				\n				\n				\n				\n				\n				\n				Register Now\n			\n			\n				\n				\n				\n				\n				\n				\n				\n				\n				\n				Description:
URL:https://pro-gk-usa.level5athletics.com/event/lv5-gka-gfs-9v9-11v11-fridays-fall-2025/2025-10-10/
LOCATION:Garrison Forest School\, 300 Garrison Forrest Rd.\, Owings Mills\, Maryland\, 21117
CATEGORIES:Open registration
ATTACH;FMTTYPE=image/png:https://pro-gk-usa.level5athletics.com/wp-content/uploads/2023/11/LV5-GKA-trans.png
ORGANIZER;CN="Level 5":MAILTO:soccer@level5athletics.com
END:VEVENT
BEGIN:VEVENT
DTSTART;TZID=America/New_York:20251010T183000
DTEND;TZID=America/New_York:20251010T193000
DTSTAMP:20260421T213946
CREATED:20250714T181746Z
LAST-MODIFIED:20251008T231810Z
UID:10001670-1760121000-1760124600@pro-gk-usa.level5athletics.com
SUMMARY:LV5-GKA-GFS-9v9/11v11- Fridays- Fall 2025 (Member)
DESCRIPTION:Level 5\n			\n			\n				\n				\n				\n				\n				\n				\n				\n				\n				\n				\n			\n			\n				\n				\n				\n				\n			\n				\n				\n				\n				\n				\n				\n				Register Now\n			\n			\n				\n				\n				\n				\n				\n				\n				\n				\n				\n				Description:
URL:https://pro-gk-usa.level5athletics.com/event/lv5-gka-gfs-9v9-11v11-fridays-fall-2025-member/2025-10-10/
LOCATION:Garrison Forest School\, 300 Garrison Forrest Rd.\, Owings Mills\, Maryland\, 21117
CATEGORIES:Members Only
ATTACH;FMTTYPE=image/png:https://pro-gk-usa.level5athletics.com/wp-content/uploads/2023/11/LV5-GKA-trans.png
ORGANIZER;CN="Level 5":MAILTO:soccer@level5athletics.com
END:VEVENT
BEGIN:VEVENT
DTSTART;TZID=America/New_York:20251010T173000
DTEND;TZID=America/New_York:20251010T183000
DTSTAMP:20260421T213946
CREATED:20250714T180224Z
LAST-MODIFIED:20251008T231723Z
UID:10001660-1760117400-1760121000@pro-gk-usa.level5athletics.com
SUMMARY:LV5-GKA-GFS- 7v7- Fridays- Fall 2025
DESCRIPTION:Level 5\n			\n			\n				\n				\n				\n				\n				\n				\n				\n				\n				\n				\n			\n			\n				\n				\n				\n				\n			\n				\n				\n				\n				\n				\n				\n				Register Now\n			\n			\n				\n				\n				\n				\n				\n				\n				\n				\n				\n				Description:
URL:https://pro-gk-usa.level5athletics.com/event/lv5-gka-gfs-7v7-fridays-fall-2025/2025-10-10/
LOCATION:Garrison Forest School\, 300 Garrison Forrest Rd.\, Owings Mills\, Maryland\, 21117
CATEGORIES:Open registration
ATTACH;FMTTYPE=image/png:https://pro-gk-usa.level5athletics.com/wp-content/uploads/2023/11/LV5-GKA-trans.png
ORGANIZER;CN="Level 5":MAILTO:soccer@level5athletics.com
END:VEVENT
BEGIN:VEVENT
DTSTART;TZID=America/New_York:20251010T173000
DTEND;TZID=America/New_York:20251010T183000
DTSTAMP:20260421T213946
CREATED:20250714T174628Z
LAST-MODIFIED:20251008T231617Z
UID:10001650-1760117400-1760121000@pro-gk-usa.level5athletics.com
SUMMARY:LV5-GKA-GFS- 7v7- Fall 2025 (Members)
DESCRIPTION:
URL:https://pro-gk-usa.level5athletics.com/event/lv5-gka-gfs-7v7-fall-2025-members/2025-10-10/
LOCATION:Garrison Forest School\, 300 Garrison Forrest Rd.\, Owings Mills\, Maryland\, 21117
CATEGORIES:Members Only
ATTACH;FMTTYPE=image/png:https://pro-gk-usa.level5athletics.com/wp-content/uploads/2023/11/LV5-GKA-trans.png
ORGANIZER;CN="Level 5":MAILTO:soccer@level5athletics.com
END:VEVENT
BEGIN:VEVENT
DTSTART;TZID=America/New_York:20251004T110000
DTEND;TZID=America/New_York:20251004T120000
DTSTAMP:20260421T213946
CREATED:20250714T233015Z
LAST-MODIFIED:20251008T235734Z
UID:10001909-1759575600-1759579200@pro-gk-usa.level5athletics.com
SUMMARY:LV5-GKA- GFS- High School- Saturdays- Fall 2025
DESCRIPTION:Level 5\n			\n			\n				\n				\n				\n				\n				\n				\n				\n				\n				\n				\n			\n			\n				\n				\n				\n				\n			\n				\n				\n				\n				\n				\n				\n				Register Now\n			\n			\n				\n				\n				\n				\n				\n				\n				\n				\n				\n				Description:
URL:https://pro-gk-usa.level5athletics.com/event/lv5-gka-gfs-high-school-saturdays-fall-2025/2025-10-04/4/
LOCATION:Garrison Forest School\, 300 Garrison Forrest Rd.\, Owings Mills\, Maryland\, 21117
CATEGORIES:Open registration
ATTACH;FMTTYPE=image/png:https://pro-gk-usa.level5athletics.com/wp-content/uploads/2023/11/LV5-GKA-trans.png
ORGANIZER;CN="Level 5":MAILTO:soccer@level5athletics.com
END:VEVENT
BEGIN:VEVENT
DTSTART;TZID=America/New_York:20251004T103000
DTEND;TZID=America/New_York:20251004T113000
DTSTAMP:20260421T213946
CREATED:20250715T125759Z
LAST-MODIFIED:20250820T211040Z
UID:10001851-1759573800-1759577400@pro-gk-usa.level5athletics.com
SUMMARY:LV5-GKA-GFS- High School- Saturdays- Fall 2025- Members
DESCRIPTION:Level 5\n			\n			\n				\n				\n				\n				\n				\n				\n				\n				\n				\n				\n			\n			\n				\n				\n				\n				\n			\n				\n				\n				\n				\n				\n				\n				Register Now\n			\n			\n				\n				\n				\n				\n				\n				\n				\n				\n				\n				Description:
URL:https://pro-gk-usa.level5athletics.com/event/lv5-gka-gfs-high-school-saturdays-fall-2025-members/2025-10-04/3/
LOCATION:Garrison Forest School\, 300 Garrison Forrest Rd.\, Owings Mills\, Maryland\, 21117
CATEGORIES:Members Only
ATTACH;FMTTYPE=image/png:https://pro-gk-usa.level5athletics.com/wp-content/uploads/2023/11/LV5-GKA-trans.png
ORGANIZER;CN="Level 5":MAILTO:soccer@level5athletics.com
END:VEVENT
BEGIN:VEVENT
DTSTART;TZID=America/New_York:20251004T103000
DTEND;TZID=America/New_York:20251004T113000
DTSTAMP:20260421T213946
CREATED:20250714T231812Z
LAST-MODIFIED:20251008T232324Z
UID:10001871-1759573800-1759577400@pro-gk-usa.level5athletics.com
SUMMARY:LV5-GKA-GFS-9v9/11v11-Saturdays- Fall 2025- Members
DESCRIPTION:Level 5\n			\n			\n				\n				\n				\n				\n				\n				\n				\n				\n				\n				\n			\n			\n				\n				\n				\n				\n			\n				\n				\n				\n				\n				\n				\n				Register Now\n			\n			\n				\n				\n				\n				\n				\n				\n				\n				\n				\n				Description:
URL:https://pro-gk-usa.level5athletics.com/event/lv5-gka-gfs-9v9-11v11-saturdays-fall-2025-members/2025-10-04/
LOCATION:Garrison Forest School\, 300 Garrison Forrest Rd.\, Owings Mills\, Maryland\, 21117
CATEGORIES:Members Only
ORGANIZER;CN="Level 5":MAILTO:soccer@level5athletics.com
END:VEVENT
BEGIN:VEVENT
DTSTART;TZID=America/New_York:20251004T103000
DTEND;TZID=America/New_York:20251004T113000
DTSTAMP:20260421T213946
CREATED:20250714T224649Z
LAST-MODIFIED:20251008T232243Z
UID:10001881-1759573800-1759577400@pro-gk-usa.level5athletics.com
SUMMARY:LV5-GKA-GFS-9v9/11v11- Saturdays- Fall 2025
DESCRIPTION:Level 5\n			\n			\n				\n				\n				\n				\n				\n				\n				\n				\n				\n				\n			\n			\n				\n				\n				\n				\n			\n				\n				\n				\n				\n				\n				\n				Register Now\n			\n			\n				\n				\n				\n				\n				\n				\n				\n				\n				\n				Description:
URL:https://pro-gk-usa.level5athletics.com/event/lv5-gka-gfs-9v9-11v11-saturdays-fall-2025/2025-10-04/
LOCATION:Garrison Forest School\, 300 Garrison Forrest Rd.\, Owings Mills\, Maryland\, 21117
CATEGORIES:Open registration
ATTACH;FMTTYPE=image/png:https://pro-gk-usa.level5athletics.com/wp-content/uploads/2023/11/LV5-GKA-trans.png
ORGANIZER;CN="Level 5":MAILTO:soccer@level5athletics.com
END:VEVENT
BEGIN:VEVENT
DTSTART;TZID=America/New_York:20251004T100000
DTEND;TZID=America/New_York:20251004T110000
DTSTAMP:20260421T213947
CREATED:20250715T125759Z
LAST-MODIFIED:20250820T211040Z
UID:10001757-1759572000-1759575600@pro-gk-usa.level5athletics.com
SUMMARY:LV5-GKA-GFS- High School- Saturdays- Fall 2025- Members
DESCRIPTION:Level 5\n			\n			\n				\n				\n				\n				\n				\n				\n				\n				\n				\n				\n			\n			\n				\n				\n				\n				\n			\n				\n				\n				\n				\n				\n				\n				Register Now\n			\n			\n				\n				\n				\n				\n				\n				\n				\n				\n				\n				Description:
URL:https://pro-gk-usa.level5athletics.com/event/lv5-gka-gfs-high-school-saturdays-fall-2025-members/2025-10-04/2/
LOCATION:Garrison Forest School\, 300 Garrison Forrest Rd.\, Owings Mills\, Maryland\, 21117
CATEGORIES:Members Only
ATTACH;FMTTYPE=image/png:https://pro-gk-usa.level5athletics.com/wp-content/uploads/2023/11/LV5-GKA-trans.png
ORGANIZER;CN="Level 5":MAILTO:soccer@level5athletics.com
END:VEVENT
BEGIN:VEVENT
DTSTART;TZID=America/New_York:20251004T100000
DTEND;TZID=America/New_York:20251004T110000
DTSTAMP:20260421T213947
CREATED:20250714T233015Z
LAST-MODIFIED:20251008T235734Z
UID:10001737-1759572000-1759575600@pro-gk-usa.level5athletics.com
SUMMARY:LV5-GKA- GFS- High School- Saturdays- Fall 2025
DESCRIPTION:Level 5\n			\n			\n				\n				\n				\n				\n				\n				\n				\n				\n				\n				\n			\n			\n				\n				\n				\n				\n			\n				\n				\n				\n				\n				\n				\n				Register Now\n			\n			\n				\n				\n				\n				\n				\n				\n				\n				\n				\n				Description:
URL:https://pro-gk-usa.level5athletics.com/event/lv5-gka-gfs-high-school-saturdays-fall-2025/2025-10-04/2/
LOCATION:Garrison Forest School\, 300 Garrison Forrest Rd.\, Owings Mills\, Maryland\, 21117
CATEGORIES:Open registration
ATTACH;FMTTYPE=image/png:https://pro-gk-usa.level5athletics.com/wp-content/uploads/2023/11/LV5-GKA-trans.png
ORGANIZER;CN="Level 5":MAILTO:soccer@level5athletics.com
END:VEVENT
BEGIN:VEVENT
DTSTART;TZID=America/New_York:20251003T193000
DTEND;TZID=America/New_York:20251003T203000
DTSTAMP:20260421T213947
CREATED:20250714T185020Z
LAST-MODIFIED:20251008T232114Z
UID:10001699-1759519800-1759523400@pro-gk-usa.level5athletics.com
SUMMARY:LV5-GKA-GFS- High School- Fridays- Fall 2025
DESCRIPTION:Level 5\n			\n			\n				\n				\n				\n				\n				\n				\n				\n				\n				\n				\n			\n			\n				\n				\n				\n				\n			\n				\n				\n				\n				\n				\n				\n				Register Now\n			\n			\n				\n				\n				\n				\n				\n				\n				\n				\n				\n				Description:
URL:https://pro-gk-usa.level5athletics.com/event/lv5-gka-gfs-high-school-fridays-fall-2025/2025-10-03/
LOCATION:Garrison Forest School\, 300 Garrison Forrest Rd.\, Owings Mills\, Maryland\, 21117
CATEGORIES:Open registration
ATTACH;FMTTYPE=image/png:https://pro-gk-usa.level5athletics.com/wp-content/uploads/2023/11/LV5-GKA-trans.png
ORGANIZER;CN="Level 5":MAILTO:soccer@level5athletics.com
END:VEVENT
BEGIN:VEVENT
DTSTART;TZID=America/New_York:20251003T193000
DTEND;TZID=America/New_York:20251003T203000
DTSTAMP:20260421T213947
CREATED:20250714T183941Z
LAST-MODIFIED:20251008T232031Z
UID:10001689-1759519800-1759523400@pro-gk-usa.level5athletics.com
SUMMARY:LV5-GKA-GFS-High School- Fridays- Fall 2025- Members
DESCRIPTION:Level 5\n			\n			\n				\n				\n				\n				\n				\n				\n				\n				\n				\n				\n			\n			\n				\n				\n				\n				\n			\n				\n				\n				\n				\n				\n				\n				Register Now\n			\n			\n				\n				\n				\n				\n				\n				\n				\n				\n				\n				Description:
URL:https://pro-gk-usa.level5athletics.com/event/lv5-gka-gfs-high-school-fridays-fall-2025-members/2025-10-03/
LOCATION:Garrison Forest School\, 300 Garrison Forrest Rd.\, Owings Mills\, Maryland\, 21117
CATEGORIES:Members Only
ATTACH;FMTTYPE=image/png:https://pro-gk-usa.level5athletics.com/wp-content/uploads/2023/11/LV5-GKA-trans.png
ORGANIZER;CN="Level 5":MAILTO:soccer@level5athletics.com
END:VEVENT
BEGIN:VEVENT
DTSTART;TZID=America/New_York:20251003T183000
DTEND;TZID=America/New_York:20251003T193000
DTSTAMP:20260421T213947
CREATED:20250714T182659Z
LAST-MODIFIED:20251008T231858Z
UID:10001679-1759516200-1759519800@pro-gk-usa.level5athletics.com
SUMMARY:LV5-GKA-GFS- 9v9/11v11- Fridays- Fall 2025
DESCRIPTION:Level 5\n			\n			\n				\n				\n				\n				\n				\n				\n				\n				\n				\n				\n			\n			\n				\n				\n				\n				\n			\n				\n				\n				\n				\n				\n				\n				Register Now\n			\n			\n				\n				\n				\n				\n				\n				\n				\n				\n				\n				Description:
URL:https://pro-gk-usa.level5athletics.com/event/lv5-gka-gfs-9v9-11v11-fridays-fall-2025/2025-10-03/
LOCATION:Garrison Forest School\, 300 Garrison Forrest Rd.\, Owings Mills\, Maryland\, 21117
CATEGORIES:Open registration
ATTACH;FMTTYPE=image/png:https://pro-gk-usa.level5athletics.com/wp-content/uploads/2023/11/LV5-GKA-trans.png
ORGANIZER;CN="Level 5":MAILTO:soccer@level5athletics.com
END:VEVENT
BEGIN:VEVENT
DTSTART;TZID=America/New_York:20251003T183000
DTEND;TZID=America/New_York:20251003T193000
DTSTAMP:20260421T213947
CREATED:20250714T181746Z
LAST-MODIFIED:20251008T231810Z
UID:10001669-1759516200-1759519800@pro-gk-usa.level5athletics.com
SUMMARY:LV5-GKA-GFS-9v9/11v11- Fridays- Fall 2025 (Member)
DESCRIPTION:Level 5\n			\n			\n				\n				\n				\n				\n				\n				\n				\n				\n				\n				\n			\n			\n				\n				\n				\n				\n			\n				\n				\n				\n				\n				\n				\n				Register Now\n			\n			\n				\n				\n				\n				\n				\n				\n				\n				\n				\n				Description:
URL:https://pro-gk-usa.level5athletics.com/event/lv5-gka-gfs-9v9-11v11-fridays-fall-2025-member/2025-10-03/
LOCATION:Garrison Forest School\, 300 Garrison Forrest Rd.\, Owings Mills\, Maryland\, 21117
CATEGORIES:Members Only
ATTACH;FMTTYPE=image/png:https://pro-gk-usa.level5athletics.com/wp-content/uploads/2023/11/LV5-GKA-trans.png
ORGANIZER;CN="Level 5":MAILTO:soccer@level5athletics.com
END:VEVENT
BEGIN:VEVENT
DTSTART;TZID=America/New_York:20251003T173000
DTEND;TZID=America/New_York:20251003T183000
DTSTAMP:20260421T213947
CREATED:20250714T180224Z
LAST-MODIFIED:20251008T231723Z
UID:10001659-1759512600-1759516200@pro-gk-usa.level5athletics.com
SUMMARY:LV5-GKA-GFS- 7v7- Fridays- Fall 2025
DESCRIPTION:Level 5\n			\n			\n				\n				\n				\n				\n				\n				\n				\n				\n				\n				\n			\n			\n				\n				\n				\n				\n			\n				\n				\n				\n				\n				\n				\n				Register Now\n			\n			\n				\n				\n				\n				\n				\n				\n				\n				\n				\n				Description:
URL:https://pro-gk-usa.level5athletics.com/event/lv5-gka-gfs-7v7-fridays-fall-2025/2025-10-03/
LOCATION:Garrison Forest School\, 300 Garrison Forrest Rd.\, Owings Mills\, Maryland\, 21117
CATEGORIES:Open registration
ATTACH;FMTTYPE=image/png:https://pro-gk-usa.level5athletics.com/wp-content/uploads/2023/11/LV5-GKA-trans.png
ORGANIZER;CN="Level 5":MAILTO:soccer@level5athletics.com
END:VEVENT
BEGIN:VEVENT
DTSTART;TZID=America/New_York:20251003T173000
DTEND;TZID=America/New_York:20251003T183000
DTSTAMP:20260421T213947
CREATED:20250714T174628Z
LAST-MODIFIED:20251008T231617Z
UID:10001649-1759512600-1759516200@pro-gk-usa.level5athletics.com
SUMMARY:LV5-GKA-GFS- 7v7- Fall 2025 (Members)
DESCRIPTION:
URL:https://pro-gk-usa.level5athletics.com/event/lv5-gka-gfs-7v7-fall-2025-members/2025-10-03/
LOCATION:Garrison Forest School\, 300 Garrison Forrest Rd.\, Owings Mills\, Maryland\, 21117
CATEGORIES:Members Only
ATTACH;FMTTYPE=image/png:https://pro-gk-usa.level5athletics.com/wp-content/uploads/2023/11/LV5-GKA-trans.png
ORGANIZER;CN="Level 5":MAILTO:soccer@level5athletics.com
END:VEVENT
BEGIN:VEVENT
DTSTART;TZID=America/New_York:20250927T110000
DTEND;TZID=America/New_York:20250927T120000
DTSTAMP:20260421T213947
CREATED:20250714T233015Z
LAST-MODIFIED:20251008T235734Z
UID:10001908-1758970800-1758974400@pro-gk-usa.level5athletics.com
SUMMARY:LV5-GKA- GFS- High School- Saturdays- Fall 2025
DESCRIPTION:Level 5\n			\n			\n				\n				\n				\n				\n				\n				\n				\n				\n				\n				\n			\n			\n				\n				\n				\n				\n			\n				\n				\n				\n				\n				\n				\n				Register Now\n			\n			\n				\n				\n				\n				\n				\n				\n				\n				\n				\n				Description:
URL:https://pro-gk-usa.level5athletics.com/event/lv5-gka-gfs-high-school-saturdays-fall-2025/2025-09-27/4/
LOCATION:Garrison Forest School\, 300 Garrison Forrest Rd.\, Owings Mills\, Maryland\, 21117
CATEGORIES:Open registration
ATTACH;FMTTYPE=image/png:https://pro-gk-usa.level5athletics.com/wp-content/uploads/2023/11/LV5-GKA-trans.png
ORGANIZER;CN="Level 5":MAILTO:soccer@level5athletics.com
END:VEVENT
BEGIN:VEVENT
DTSTART;TZID=America/New_York:20250927T103000
DTEND;TZID=America/New_York:20250927T113000
DTSTAMP:20260421T213947
CREATED:20250715T125759Z
LAST-MODIFIED:20250820T211040Z
UID:10001850-1758969000-1758972600@pro-gk-usa.level5athletics.com
SUMMARY:LV5-GKA-GFS- High School- Saturdays- Fall 2025- Members
DESCRIPTION:Level 5\n			\n			\n				\n				\n				\n				\n				\n				\n				\n				\n				\n				\n			\n			\n				\n				\n				\n				\n			\n				\n				\n				\n				\n				\n				\n				Register Now\n			\n			\n				\n				\n				\n				\n				\n				\n				\n				\n				\n				Description:
URL:https://pro-gk-usa.level5athletics.com/event/lv5-gka-gfs-high-school-saturdays-fall-2025-members/2025-09-27/3/
LOCATION:Garrison Forest School\, 300 Garrison Forrest Rd.\, Owings Mills\, Maryland\, 21117
CATEGORIES:Members Only
ATTACH;FMTTYPE=image/png:https://pro-gk-usa.level5athletics.com/wp-content/uploads/2023/11/LV5-GKA-trans.png
ORGANIZER;CN="Level 5":MAILTO:soccer@level5athletics.com
END:VEVENT
BEGIN:VEVENT
DTSTART;TZID=America/New_York:20250927T103000
DTEND;TZID=America/New_York:20250927T113000
DTSTAMP:20260421T213947
CREATED:20250714T231812Z
LAST-MODIFIED:20251008T232324Z
UID:10001870-1758969000-1758972600@pro-gk-usa.level5athletics.com
SUMMARY:LV5-GKA-GFS-9v9/11v11-Saturdays- Fall 2025- Members
DESCRIPTION:Level 5\n			\n			\n				\n				\n				\n				\n				\n				\n				\n				\n				\n				\n			\n			\n				\n				\n				\n				\n			\n				\n				\n				\n				\n				\n				\n				Register Now\n			\n			\n				\n				\n				\n				\n				\n				\n				\n				\n				\n				Description:
URL:https://pro-gk-usa.level5athletics.com/event/lv5-gka-gfs-9v9-11v11-saturdays-fall-2025-members/2025-09-27/
LOCATION:Garrison Forest School\, 300 Garrison Forrest Rd.\, Owings Mills\, Maryland\, 21117
CATEGORIES:Members Only
ORGANIZER;CN="Level 5":MAILTO:soccer@level5athletics.com
END:VEVENT
BEGIN:VEVENT
DTSTART;TZID=America/New_York:20250927T103000
DTEND;TZID=America/New_York:20250927T113000
DTSTAMP:20260421T213947
CREATED:20250714T224649Z
LAST-MODIFIED:20251008T232243Z
UID:10001880-1758969000-1758972600@pro-gk-usa.level5athletics.com
SUMMARY:LV5-GKA-GFS-9v9/11v11- Saturdays- Fall 2025
DESCRIPTION:Level 5\n			\n			\n				\n				\n				\n				\n				\n				\n				\n				\n				\n				\n			\n			\n				\n				\n				\n				\n			\n				\n				\n				\n				\n				\n				\n				Register Now\n			\n			\n				\n				\n				\n				\n				\n				\n				\n				\n				\n				Description:
URL:https://pro-gk-usa.level5athletics.com/event/lv5-gka-gfs-9v9-11v11-saturdays-fall-2025/2025-09-27/
LOCATION:Garrison Forest School\, 300 Garrison Forrest Rd.\, Owings Mills\, Maryland\, 21117
CATEGORIES:Open registration
ATTACH;FMTTYPE=image/png:https://pro-gk-usa.level5athletics.com/wp-content/uploads/2023/11/LV5-GKA-trans.png
ORGANIZER;CN="Level 5":MAILTO:soccer@level5athletics.com
END:VEVENT
BEGIN:VEVENT
DTSTART;TZID=America/New_York:20250927T100000
DTEND;TZID=America/New_York:20250927T110000
DTSTAMP:20260421T213947
CREATED:20250715T125759Z
LAST-MODIFIED:20250820T211040Z
UID:10001755-1758967200-1758970800@pro-gk-usa.level5athletics.com
SUMMARY:LV5-GKA-GFS- High School- Saturdays- Fall 2025- Members
DESCRIPTION:Level 5\n			\n			\n				\n				\n				\n				\n				\n				\n				\n				\n				\n				\n			\n			\n				\n				\n				\n				\n			\n				\n				\n				\n				\n				\n				\n				Register Now\n			\n			\n				\n				\n				\n				\n				\n				\n				\n				\n				\n				Description:
URL:https://pro-gk-usa.level5athletics.com/event/lv5-gka-gfs-high-school-saturdays-fall-2025-members/2025-09-27/2/
LOCATION:Garrison Forest School\, 300 Garrison Forrest Rd.\, Owings Mills\, Maryland\, 21117
CATEGORIES:Members Only
ATTACH;FMTTYPE=image/png:https://pro-gk-usa.level5athletics.com/wp-content/uploads/2023/11/LV5-GKA-trans.png
ORGANIZER;CN="Level 5":MAILTO:soccer@level5athletics.com
END:VEVENT
BEGIN:VEVENT
DTSTART;TZID=America/New_York:20250927T100000
DTEND;TZID=America/New_York:20250927T110000
DTSTAMP:20260421T213947
CREATED:20250714T233015Z
LAST-MODIFIED:20251008T235734Z
UID:10001735-1758967200-1758970800@pro-gk-usa.level5athletics.com
SUMMARY:LV5-GKA- GFS- High School- Saturdays- Fall 2025
DESCRIPTION:Level 5\n			\n			\n				\n				\n				\n				\n				\n				\n				\n				\n				\n				\n			\n			\n				\n				\n				\n				\n			\n				\n				\n				\n				\n				\n				\n				Register Now\n			\n			\n				\n				\n				\n				\n				\n				\n				\n				\n				\n				Description:
URL:https://pro-gk-usa.level5athletics.com/event/lv5-gka-gfs-high-school-saturdays-fall-2025/2025-09-27/2/
LOCATION:Garrison Forest School\, 300 Garrison Forrest Rd.\, Owings Mills\, Maryland\, 21117
CATEGORIES:Open registration
ATTACH;FMTTYPE=image/png:https://pro-gk-usa.level5athletics.com/wp-content/uploads/2023/11/LV5-GKA-trans.png
ORGANIZER;CN="Level 5":MAILTO:soccer@level5athletics.com
END:VEVENT
BEGIN:VEVENT
DTSTART;TZID=America/New_York:20250926T193000
DTEND;TZID=America/New_York:20250926T203000
DTSTAMP:20260421T213947
CREATED:20250714T185020Z
LAST-MODIFIED:20251008T232114Z
UID:10001698-1758915000-1758918600@pro-gk-usa.level5athletics.com
SUMMARY:LV5-GKA-GFS- High School- Fridays- Fall 2025
DESCRIPTION:Level 5\n			\n			\n				\n				\n				\n				\n				\n				\n				\n				\n				\n				\n			\n			\n				\n				\n				\n				\n			\n				\n				\n				\n				\n				\n				\n				Register Now\n			\n			\n				\n				\n				\n				\n				\n				\n				\n				\n				\n				Description:
URL:https://pro-gk-usa.level5athletics.com/event/lv5-gka-gfs-high-school-fridays-fall-2025/2025-09-26/
LOCATION:Garrison Forest School\, 300 Garrison Forrest Rd.\, Owings Mills\, Maryland\, 21117
CATEGORIES:Open registration
ATTACH;FMTTYPE=image/png:https://pro-gk-usa.level5athletics.com/wp-content/uploads/2023/11/LV5-GKA-trans.png
ORGANIZER;CN="Level 5":MAILTO:soccer@level5athletics.com
END:VEVENT
BEGIN:VEVENT
DTSTART;TZID=America/New_York:20250926T193000
DTEND;TZID=America/New_York:20250926T203000
DTSTAMP:20260421T213947
CREATED:20250714T183941Z
LAST-MODIFIED:20251008T232031Z
UID:10001688-1758915000-1758918600@pro-gk-usa.level5athletics.com
SUMMARY:LV5-GKA-GFS-High School- Fridays- Fall 2025- Members
DESCRIPTION:Level 5\n			\n			\n				\n				\n				\n				\n				\n				\n				\n				\n				\n				\n			\n			\n				\n				\n				\n				\n			\n				\n				\n				\n				\n				\n				\n				Register Now\n			\n			\n				\n				\n				\n				\n				\n				\n				\n				\n				\n				Description:
URL:https://pro-gk-usa.level5athletics.com/event/lv5-gka-gfs-high-school-fridays-fall-2025-members/2025-09-26/
LOCATION:Garrison Forest School\, 300 Garrison Forrest Rd.\, Owings Mills\, Maryland\, 21117
CATEGORIES:Members Only
ATTACH;FMTTYPE=image/png:https://pro-gk-usa.level5athletics.com/wp-content/uploads/2023/11/LV5-GKA-trans.png
ORGANIZER;CN="Level 5":MAILTO:soccer@level5athletics.com
END:VEVENT
END:VCALENDAR